BEGIN:VCALENDAR
VERSION:2.0
PRODID:-//KoalaKollektiv - ECPv6.15.20//NONSGML v1.0//EN
CALSCALE:GREGORIAN
METHOD:PUBLISH
X-ORIGINAL-URL:https://koalakollektiv.de
X-WR-CALDESC:Veranstaltungen für KoalaKollektiv
REFRESH-INTERVAL;VALUE=DURATION:PT1H
X-Robots-Tag:noindex
X-PUBLISHED-TTL:PT1H
BEGIN:VTIMEZONE
TZID:Europe/Berlin
BEGIN:DAYLIGHT
TZOFFSETFROM:+0100
TZOFFSETTO:+0200
TZNAME:CEST
DTSTART:20250330T010000
END:DAYLIGHT
BEGIN:STANDARD
TZOFFSETFROM:+0200
TZOFFSETTO:+0100
TZNAME:CET
DTSTART:20251026T010000
END:STANDARD
BEGIN:DAYLIGHT
TZOFFSETFROM:+0100
TZOFFSETTO:+0200
TZNAME:CEST
DTSTART:20260329T010000
END:DAYLIGHT
BEGIN:STANDARD
TZOFFSETFROM:+0200
TZOFFSETTO:+0100
TZNAME:CET
DTSTART:20261025T010000
END:STANDARD
BEGIN:DAYLIGHT
TZOFFSETFROM:+0100
TZOFFSETTO:+0200
TZNAME:CEST
DTSTART:20270328T010000
END:DAYLIGHT
BEGIN:STANDARD
TZOFFSETFROM:+0200
TZOFFSETTO:+0100
TZNAME:CET
DTSTART:20271031T010000
END:STANDARD
END:VTIMEZONE
BEGIN:VEVENT
DTSTART;TZID=Europe/Berlin:20260228T170000
DTEND;TZID=Europe/Berlin:20260228T200000
DTSTAMP:20260420T113531
CREATED:20260227T091825Z
LAST-MODIFIED:20260227T091850Z
UID:6719-1772298000-1772308800@koalakollektiv.de
SUMMARY:In welchem Klima wollen wir leben? - Podiumsdiskussion
DESCRIPTION:In welchem Klima wollen wir leben? Unter diesem Motto laden wir zu einer Podiumsdiskussion ein. \nWann ⏰: Samstag\, 28.02.2026\, 17 Uhr\nWo 🏡 : Senckenberg-Gesellschaft\, Grüner Hörsaal\, Robert-Mayer-Str. 2\, 60325 Frankfurt \nUnseren Fragen stellen sich:\n➡️ Katharina Knacker (Grüne)\,\n➡️ Frank Nagel (CDU)\,\n➡️ Kristina Luxen (SPD)\,\n➡️ Daniela Mehler-Würzbach (Linke)\,\n➡️ Julian Langner (FDP) und\n➡️ Tim Englert (Volt) \nModeration: Anea Lang & Jochen Müller Der Eintritt ist frei :)! \nIn unserer Podiumsdiskussion fragen wir genau nach\, was die Parteien in Sachen Wohnen & Energie\, Stadtgrün und Mobilität vor haben. Kommt vorbei und hört euch an\, was die Vertreter*innen der Parteien zu sagen haben! Denn am 15.3.2026 entscheiden wir bei der Kommunalwahl\, wer in den nächsten 5 Jahren die Stadt regieren wird. \nDie Podiumsdiskussion ist eine Veranstaltung von Radentscheid\, Klimaentscheid und Scientists for Future Frankfurt und wird unterstützt vom KoalaKollektiv. \nDas Event wird live gestreamt.
URL:https://koalakollektiv.de/event/in-welchem-klima-wollen-wir-leben-podiumsdiskussion/
LOCATION:Senckbenberg-Gesellschaft\, Robert-Mayer-Str. 2\, Frankfurt am Main\, 60325\, Germany
ATTACH;FMTTYPE=image/jpeg:https://koalakollektiv.de/wp-content/uploads/2026/02/IMG_0061.jpg
END:VEVENT
END:VCALENDAR