BEGIN:VCALENDAR
VERSION:2.0
PRODID:-//KoalaKollektiv - ECPv6.15.20//NONSGML v1.0//EN
CALSCALE:GREGORIAN
METHOD:PUBLISH
X-ORIGINAL-URL:https://koalakollektiv.de
X-WR-CALDESC:Veranstaltungen für KoalaKollektiv
REFRESH-INTERVAL;VALUE=DURATION:PT1H
X-Robots-Tag:noindex
X-PUBLISHED-TTL:PT1H
BEGIN:VTIMEZONE
TZID:Europe/Berlin
BEGIN:DAYLIGHT
TZOFFSETFROM:+0100
TZOFFSETTO:+0200
TZNAME:CEST
DTSTART:20250330T010000
END:DAYLIGHT
BEGIN:STANDARD
TZOFFSETFROM:+0200
TZOFFSETTO:+0100
TZNAME:CET
DTSTART:20251026T010000
END:STANDARD
BEGIN:DAYLIGHT
TZOFFSETFROM:+0100
TZOFFSETTO:+0200
TZNAME:CEST
DTSTART:20260329T010000
END:DAYLIGHT
BEGIN:STANDARD
TZOFFSETFROM:+0200
TZOFFSETTO:+0100
TZNAME:CET
DTSTART:20261025T010000
END:STANDARD
BEGIN:DAYLIGHT
TZOFFSETFROM:+0100
TZOFFSETTO:+0200
TZNAME:CEST
DTSTART:20270328T010000
END:DAYLIGHT
BEGIN:STANDARD
TZOFFSETFROM:+0200
TZOFFSETTO:+0100
TZNAME:CET
DTSTART:20271031T010000
END:STANDARD
END:VTIMEZONE
BEGIN:VEVENT
DTSTART;TZID=Europe/Berlin:20260120T190000
DTEND;TZID=Europe/Berlin:20260120T210000
DTSTAMP:20260420T130733
CREATED:20251115T131943Z
LAST-MODIFIED:20251124T102801Z
UID:6636-1768935600-1768942800@koalakollektiv.de
SUMMARY:Das laute Schweigen - Warum wir Klimagerechtigkeit und Gaza zusammendenken müssen - KlimaKneipe mit Tomer Dotan-Dreyfus
DESCRIPTION:Seit dem 7. Oktober 2023 und der israelischen Reaktion darauf erleben wir eine dramatische Spaltung der Öffentlichkeiten – weltweit\, aber besonders deutlich in Deutschland. Die Debatte ist polarisiert\, vergiftet\, von Repression und „Silencing“ geprägt. Viele erleben ein Klima der Angst. \nIn der Klimagerechtigkeitsbewegung hat dies zu etwas geführt\, das schwer zu übersehen ist: Schweigen. Lähmung. Sprachlosigkeit. Während weltweit Klimagruppen die Zusammenhänge zwischen Klimagerechtigkeit\, Postkolonialismus und Gaza diskutieren\, herrscht in Deutschland weitgehend Paralyse. Warum fällt es gerade hier so schwer\, sich öffentlich zu positionieren? Was bedeutet dieses Schweigen? \nManche sehen vielfältige Verbindungen: Julia Steinberger etwa bezeichnet Gaza als „Menetekel“ – als Vorschau auf den Umgang mit zukünftigen Klimaflüchtlingen. Andere betonen postkoloniale Muster\, Extraktivismus\, die Zerstörung von Lebensgrundlagen. Wieder andere reagieren skeptisch: Wird hier nicht zu viel in einen Topf geworfen? \nDiese Fragen wollen wir gemeinsam erkunden – ohne die Diskussion vorwegzunehmen\, ohne sofort zu werten. Dafür haben wir Tomer Dotan-Dreyfus eingeladen. \nTomer ist in Israel aufgewachsen und lebt seit 14 Jahren als Schriftsteller und Übersetzer in Berlin. Er gehört zu jenen linken israelischen Stimmen\, die sich schon lange vor dem 7. Oktober kritisch mit der israelischen Politik und Gesellschaft auseinandergesetzt haben – und die auch in Deutschland zunehmend in die Defensive geraten sind. In seinem jüngst erschienenen Buch „Keinheimisch“ schreibt er über seine Kindheit als Nachfahre von Holocaustüberlebenden in Israel und sein Leben in Deutschland. Per Leo kommentiert: Deutschland solle diesen „literarisch hochveranlagten Störenfried wie seinen Augapfel hüten\, wenn es ihm mit dem Schutz jüdischen Lebens ernst wäre.“ \nTomer wird uns Impulse geben zu Fragen wie: \n– Warum ist die deutsche Debatte zu Gaza so anders als in anderen Ländern? Welche Rolle spielen historische Verantwortung\, Staatsräson\, unaufgearbeitete Geschichte?\n– Wie sehen linke israelische Perspektiven auf das Geschehen – jenseits der Logiken von Regierung und Militär?\n– Was hat Gaza mit Klimagerechtigkeit zu tun? Sind die Zusammenhänge zwingend oder konstruiert?\n– Warum schweigen so viele Klimagruppen in Deutschland? Was bedeutet dieses Schweigen – Komplexität\, Angst\, Taktik\, oder etwas anderes?\n– Wie können wir über diese schwierigen Fragen sprechen\, ohne sofort zu triggern? Wie gelingt ein Diskurs\, der sich an universalistischen Menschenrechten orientiert? \nIm Dezember 2024 hat Ende Gelände nach einem Jahr intensiver interner Diskussion ein Positionspapier zu Gaza veröffentlicht – ein Versuch\, das Schweigen zu brechen. Die Resonanz in der deutschen Klimabewegung blieb dennoch überschaubar. Auch wir im KoalaKollektiv haben uns schwergetan\, eine gemeinsame Sprache zu finden. \nGenau deshalb brauchen wir dieses Gespräch. Nicht um Positionen vorzugeben\, sondern um die Spannungsfelder besser zu verstehen. Um miteinander ins Gespräch zu kommen – auch wenn wir nicht in allem einig sind. \nEs wird eine intensive Klimakneipe werden. Wir laden euch ein\, dabei zu sein – ob ihr schon klare Positionen habt oder noch zwischen den Stühlen steht\, ob ihr Antworten sucht oder einfach nur besser verstehen wollt\, was gerade passiert. \nWir freuen uns auf den Abend mit Tomer und auf eure Fragen und Perspektiven. \nDas KoalaKollektiv Frankfurt
URL:https://koalakollektiv.de/event/das-laute-schweigen-warum-wir-klimagerechtigkeit-und-gaza-zusammendenken-muessen-klimakneipe-mit-tomer-dotan-dreyfus/
LOCATION:Lola Montez\, Honsellstraße 7\, Frankfurt am Main\, 60314\, Germany
CATEGORIES:KlimaKneipe
ATTACH;FMTTYPE=image/png:https://koalakollektiv.de/wp-content/uploads/2025/11/TDD_1x1mitwdc.png
END:VEVENT
END:VCALENDAR