BEGIN:VCALENDAR
VERSION:2.0
PRODID:-//KoalaKollektiv - ECPv6.15.20//NONSGML v1.0//EN
CALSCALE:GREGORIAN
METHOD:PUBLISH
X-ORIGINAL-URL:https://koalakollektiv.de
X-WR-CALDESC:Veranstaltungen für KoalaKollektiv
REFRESH-INTERVAL;VALUE=DURATION:PT1H
X-Robots-Tag:noindex
X-PUBLISHED-TTL:PT1H
BEGIN:VTIMEZONE
TZID:Europe/Berlin
BEGIN:DAYLIGHT
TZOFFSETFROM:+0100
TZOFFSETTO:+0200
TZNAME:CEST
DTSTART:20240331T010000
END:DAYLIGHT
BEGIN:STANDARD
TZOFFSETFROM:+0200
TZOFFSETTO:+0100
TZNAME:CET
DTSTART:20241027T010000
END:STANDARD
BEGIN:DAYLIGHT
TZOFFSETFROM:+0100
TZOFFSETTO:+0200
TZNAME:CEST
DTSTART:20250330T010000
END:DAYLIGHT
BEGIN:STANDARD
TZOFFSETFROM:+0200
TZOFFSETTO:+0100
TZNAME:CET
DTSTART:20251026T010000
END:STANDARD
BEGIN:DAYLIGHT
TZOFFSETFROM:+0100
TZOFFSETTO:+0200
TZNAME:CEST
DTSTART:20260329T010000
END:DAYLIGHT
BEGIN:STANDARD
TZOFFSETFROM:+0200
TZOFFSETTO:+0100
TZNAME:CET
DTSTART:20261025T010000
END:STANDARD
END:VTIMEZONE
BEGIN:VEVENT
DTSTART;TZID=Europe/Berlin:20250522T190000
DTEND;TZID=Europe/Berlin:20250522T210000
DTSTAMP:20260421T014054
CREATED:20250513T064659Z
LAST-MODIFIED:20250516T170125Z
UID:6554-1747940400-1747947600@koalakollektiv.de
SUMMARY:Radikal emotional! Warum wir emotionale Kompetenz für eine nachhaltige Transformation brauchen - KlimaKneipe mit Maren Urner
DESCRIPTION:Am 22.05. wird es radikal emotional: Maren Urner\, Neurowissenschaftlerin\, Professiorin für Nachhaltige Transformation und Bestsellerautorin\, ist zu Gast bei unserer kommenden Klimakneipe im Montez! Gemeinsam mit ihr sprechen wir darüber\, wieso Verstand und Emotionen nicht voneinander getrennt werden können und was das für unser Politikverständnis bedeutet. Kommt vorbei\, schenkt ihr radikale Aufmerksamkeit\, gönnt euch ein Getränk in radikaler Verbundenheit\, diskutiert mit uns in radikaler Ehrlichkeit\, wir freuen uns auf euch!
URL:https://koalakollektiv.de/event/6554/
LOCATION:Lola Montez\, Honsellstraße 7\, Frankfurt am Main\, 60314\, Germany
CATEGORIES:KlimaKneipe
ATTACH;FMTTYPE=image/png:https://koalakollektiv.de/wp-content/uploads/2025/05/Klimakneipe-Maren-Urner-sharepic-insta.png
END:VEVENT
END:VCALENDAR