BEGIN:VCALENDAR
VERSION:2.0
PRODID:-//KoalaKollektiv - ECPv6.15.20//NONSGML v1.0//EN
CALSCALE:GREGORIAN
METHOD:PUBLISH
X-WR-CALNAME:KoalaKollektiv
X-ORIGINAL-URL:https://koalakollektiv.de
X-WR-CALDESC:Veranstaltungen für KoalaKollektiv
REFRESH-INTERVAL;VALUE=DURATION:PT1H
X-Robots-Tag:noindex
X-PUBLISHED-TTL:PT1H
BEGIN:VTIMEZONE
TZID:Europe/Berlin
BEGIN:DAYLIGHT
TZOFFSETFROM:+0100
TZOFFSETTO:+0200
TZNAME:CEST
DTSTART:20260329T010000
END:DAYLIGHT
BEGIN:STANDARD
TZOFFSETFROM:+0200
TZOFFSETTO:+0100
TZNAME:CET
DTSTART:20261025T010000
END:STANDARD
BEGIN:DAYLIGHT
TZOFFSETFROM:+0100
TZOFFSETTO:+0200
TZNAME:CEST
DTSTART:20270328T010000
END:DAYLIGHT
BEGIN:STANDARD
TZOFFSETFROM:+0200
TZOFFSETTO:+0100
TZNAME:CET
DTSTART:20271031T010000
END:STANDARD
BEGIN:DAYLIGHT
TZOFFSETFROM:+0100
TZOFFSETTO:+0200
TZNAME:CEST
DTSTART:20280326T010000
END:DAYLIGHT
BEGIN:STANDARD
TZOFFSETFROM:+0200
TZOFFSETTO:+0100
TZNAME:CET
DTSTART:20281029T010000
END:STANDARD
END:VTIMEZONE
BEGIN:VEVENT
DTSTART;TZID=Europe/Berlin:20270831T190000
DTEND;TZID=Europe/Berlin:20270831T210000
DTSTAMP:20260420T112559
CREATED:20220305T165112Z
LAST-MODIFIED:20260404T102426Z
UID:4777-1819738800-1819746000@koalakollektiv.de
SUMMARY:Alle KlimaKneipen...
DESCRIPTION:In unserer KlimaKneipe begrüßen wir mehrmals im Jahr Gäste aus Gesellschaft\, Wissenschaft und Aktivismus. Gemeinsam mit dem Publikum beleuchten wir ihre professionellen und persönlichen Perspektiven auf die Klimakrise. Vor allem aber sprechen wir darüber\, welche Möglichkeiten wir noch haben\, diese einzudämmen. \n2026\n26.10.: Martin Schürz \n23.06.: Jan Hegenberg \n28.04.: Marlene Engelhorn \n20.02.: Tomer Dotan-Dreyfus – Das LAUTE SCHWEIGEN https://www.youtube.com/live/beApiafr7yU?si=25IRUB8R8EMFArVz \n2025\n28.06.: Ingwar Perowanowitsch – Auf zwei Rädern Richtung menschenfreundliche Stadt https://www.youtube.com/live/-ksDztV5Fh8?si=bMaGOBGqJ3CAliVO \n22.05.: Maren Urner – Radikal Emotional https://www.youtube.com/live/Xft8_OBys9M?si=yrFObLH5cUAS-a9t \n27.04.: Sebastian23 – Alles wird gut? Die Kraft von Humor und Poesie in Krisenzeiten https://youtu.be/C8Urw7idGSQ?si=vo3htNi0_OHgwkkB \n2024\n14.02.: Eva von Redecker https://youtu.be/LW8KXG56NFk \n22.05.: Carola Rackete https://www.youtube.com/live/wEEg1m5RuNQ \n12.09.: Marcus Bensmann \n14.10.: Tadzio Müller https://www.youtube.com/live/4aYU9uGYPPQ \n27.11.: Ulrike Herrmann https://www.youtube.com/watch?v=hL7-DiEp8yI&list=PLgoj8ceg_qNqqLlIYOa6zRDuJiA282sPA \n2023\n01.12.: Samira El Ouassil https://youtu.be/v0ZGenLopyw \n01.09.: Özden Terli – Alles nur Wetter?! https://youtu.be/IESnIORNOLY \n26.06.: Luisa Neubauer https://youtu.be/3BEpApw9Juc \n30.05.: Lasse Thiele – Zur Kritik des „grünen“ Kapitalismus \n24.04.: Michael Seemann  – Plattformkapitalismus https://youtu.be/DtOGIhSlxGw \n27.02.: Lea Dohm\, Psychologin und Gründerin „Psychologists for Future“: Vom Wissen zum Handeln – Die Psychologie der Klimakrise https://youtu.be/Geh-JFb9Jvo \n30.01.: Prof. Stefan Lessenich\, Direktor des Instituts für Sozialforschung\, Goethe Universität: Die Normalität ist das Problem – Wege in eine (klima)gerechte Gesellschaft https://youtu.be/DoqMkjKoMTY \n  \n2022\n19.12.: Dies Irae (https://www.instagram.com/nervtjeden) – Adbusting: Wie Werbung demasliert wird. \n28.11.: Debt for Climate – Entschuldigung des Globalen Nordens? Entschuldung des Globalen Südens für soziale Klimagerechtigkeit! https://youtu.be/SXvWsxIqsRs \n31.10.: Hadija Haruna-Oelker – Klimakrise und Differenz \n26.09.: Katja Diehl – Autokorrektur https://youtu.be/3yaoCCoVOlc \n27.06.: Katharina Stierl – Organizing https://youtu.be/Z4vv78-ApRs \n30.05.: Raphael Thelen: Journalismuskrise https://youtu.be/yHHkcqHBD5o \n25.04.: Klimaentscheid Frankfurt https://youtu.be/EXJDb5VFCNM \n28.03.: Tadzio Müller: Friedliche Sabotage oder Massenbewegung? https://youtu.be/izJSHQY5mco \n07.02.: Prof. Joscha Wullweber – Zentralbankenkapitalismus \n31.01.: Die Gemüseheld:innen: Urban Gardening in Frankfurt https://youtu.be/7jWg6oUDxiQ \nHier findet ihr die Aufzeichnungen vergangener KlimaKneipen: \nhttps://www.youtube.com/playlist?list=PLgoj8ceg_qNqqLlIYOa6zRDuJiA282sPAhttps://www.youtube.com/watch?v=hL7-DiEp8yI&list=PLgoj8ceg_qNqqLlIYOa6zRDuJiA282sPA \n  \n  \n  \n  \n  \n  \n  \n 
URL:https://koalakollektiv.de/event/alle-klimakneipen/
CATEGORIES:KlimaKneipe,KlimaKneipe eng
ATTACH;FMTTYPE=image/png:https://koalakollektiv.de/wp-content/uploads/2026/04/Lineup-2026-4.png
END:VEVENT
END:VCALENDAR